BEGIN:VCALENDAR
VERSION:2.0
PRODID:SchoolNow
CALSCALE:GREGORIAN
BEGIN:VEVENT
UID:57707546-13f3-11f1-938b-0affd2000edd
DTSTAMP:20260421T025603Z
SUMMARY:Dental Bus
URL;VALUE=URI:https://www.colquitt.k12.ga.us/schools/gray/calendar/8876408/
 dental-bus
DTSTART;VALUE=DATE:20260305
DTEND;VALUE=DATE:20260306
END:VEVENT
END:VCALENDAR
