BEGIN:VCALENDAR
VERSION:2.0
PRODID:SchoolNow
CALSCALE:GREGORIAN
BEGIN:VEVENT
UID:57707456-13f3-11f1-a226-0affd2000edd
DTSTAMP:20260421T025603Z
SUMMARY:EOG Math S2
URL;VALUE=URI:https://www.colquitt.k12.ga.us/schools/gray/calendar/8876407/
 eog-math-s2
DTSTART;VALUE=DATE:20260429
DTEND;VALUE=DATE:20260430
END:VEVENT
END:VCALENDAR
