BEGIN:VCALENDAR
VERSION:2.0
PRODID:SchoolNow
CALSCALE:GREGORIAN
BEGIN:VEVENT
UID:57707334-13f3-11f1-ad06-0affd2000edd
DTSTAMP:20260421T025603Z
SUMMARY:EOG Math S1
URL;VALUE=URI:https://www.colquitt.k12.ga.us/schools/gray/calendar/8876406/
 eog-math-s1
DTSTART;VALUE=DATE:20260428
DTEND;VALUE=DATE:20260429
END:VEVENT
END:VCALENDAR
