BEGIN:VCALENDAR
VERSION:2.0
PRODID:SchoolNow
CALSCALE:GREGORIAN
BEGIN:VEVENT
UID:57707212-13f3-11f1-b309-0affd2000edd
DTSTAMP:20260421T025603Z
SUMMARY:EOG ELA S1
URL;VALUE=URI:https://www.colquitt.k12.ga.us/schools/gray/calendar/8876405/
 eog-ela-s1
DTSTART;VALUE=DATE:20260421
DTEND;VALUE=DATE:20260422
END:VEVENT
END:VCALENDAR
