BEGIN:VCALENDAR
VERSION:2.0
PRODID:SchoolNow
CALSCALE:GREGORIAN
BEGIN:VEVENT
UID:577070c8-13f3-11f1-962c-0affd2000edd
DTSTAMP:20260421T025603Z
SUMMARY:EOG ELA S2
URL;VALUE=URI:https://www.colquitt.k12.ga.us/schools/gray/calendar/8876404/
 eog-ela-s2
DTSTART;VALUE=DATE:20260422
DTEND;VALUE=DATE:20260423
END:VEVENT
END:VCALENDAR
