BEGIN:VCALENDAR
VERSION:2.0
PRODID:SchoolNow
CALSCALE:GREGORIAN
BEGIN:VEVENT
UID:57706f7e-13f3-11f1-8c18-0affd2000edd
DTSTAMP:20260421T025603Z
SUMMARY:EOG Science
URL;VALUE=URI:https://www.colquitt.k12.ga.us/schools/gray/calendar/8876403/
 eog-science
DTSTART;VALUE=DATE:20260416
DTEND;VALUE=DATE:20260417
END:VEVENT
END:VCALENDAR
