BEGIN:VCALENDAR
VERSION:2.0
PRODID:SchoolNow
CALSCALE:GREGORIAN
BEGIN:VEVENT
UID:57706c40-13f3-11f1-9027-0affd2000edd
DTSTAMP:20260421T025603Z
SUMMARY:EOG SS
URL;VALUE=URI:https://www.colquitt.k12.ga.us/schools/gray/calendar/8876402/
 eog-ss
DTSTART;VALUE=DATE:20260430
DTEND;VALUE=DATE:20260501
END:VEVENT
END:VCALENDAR
