BEGIN:VCALENDAR
VERSION:2.0
PRODID:SchoolNow
CALSCALE:GREGORIAN
BEGIN:VEVENT
UID:a6adf350-0dc6-11f1-bf30-0a58a9feac02
DTSTAMP:20260421T025603Z
SUMMARY:Spring Into 8th Grade - rising 8s event - CAG gym
URL;VALUE=URI:https://www.colquitt.k12.ga.us/schools/gray/calendar/8861032/
 spring-into-8th-grade-rising-8s-event-cag-gym
DTSTART:20260305T210000Z
DTEND:20260305T221500Z
END:VEVENT
END:VCALENDAR
