BEGIN:VCALENDAR
VERSION:2.0
PRODID:SchoolNow
CALSCALE:GREGORIAN
BEGIN:VEVENT
UID:31eec718-efe6-11f0-8c42-0a58a9feac02
DTSTAMP:20260421T025603Z
SUMMARY:Holiday
URL;VALUE=URI:https://www.colquitt.k12.ga.us/schools/gray/calendar/8835124/
 holiday
DTSTART;VALUE=DATE:20260119
DTEND;VALUE=DATE:20260120
END:VEVENT
END:VCALENDAR
