BEGIN:VCALENDAR
VERSION:2.0
PRODID:SchoolNow
CALSCALE:GREGORIAN
BEGIN:VEVENT
UID:31eec61e-efe6-11f0-bf2f-0a58a9feac02
DTSTAMP:20260421T025603Z
SUMMARY:Career Speakers
URL;VALUE=URI:https://www.colquitt.k12.ga.us/schools/gray/calendar/8835123/
 career-speakers
DTSTART;VALUE=DATE:20260205
DTEND;VALUE=DATE:20260206
END:VEVENT
END:VCALENDAR
