BEGIN:VCALENDAR
VERSION:2.0
PRODID:SchoolNow
CALSCALE:GREGORIAN
BEGIN:VEVENT
UID:31eec394-efe6-11f0-b647-0a58a9feac02
DTSTAMP:20260421T025603Z
SUMMARY:PBIS Movie Day
URL;VALUE=URI:https://www.colquitt.k12.ga.us/schools/gray/calendar/8835121/
 pbis-movie-day
DTSTART;VALUE=DATE:20260312
DTEND;VALUE=DATE:20260313
END:VEVENT
END:VCALENDAR
