BEGIN:VCALENDAR
VERSION:2.0
PRODID:SchoolNow
CALSCALE:GREGORIAN
BEGIN:VEVENT
UID:31eec2a4-efe6-11f0-a535-0a58a9feac02
DTSTAMP:20260421T025603Z
SUMMARY:Student Holiday/Teacher Workday
URL;VALUE=URI:https://www.colquitt.k12.ga.us/schools/gray/calendar/8835120/
 student-holiday-teacher-workday
DTSTART;VALUE=DATE:20260313
DTEND;VALUE=DATE:20260314
END:VEVENT
END:VCALENDAR
