BEGIN:VCALENDAR
VERSION:2.0
PRODID:SchoolNow
CALSCALE:GREGORIAN
BEGIN:VEVENT
UID:31eec04c-efe6-11f0-bc0b-0a58a9feac02
DTSTAMP:20260421T025603Z
SUMMARY:ACCESS Testing
URL;VALUE=URI:https://www.colquitt.k12.ga.us/schools/gray/calendar/8835118/
 access-testing
DTSTART;VALUE=DATE:20260202
DTEND;VALUE=DATE:20260207
END:VEVENT
END:VCALENDAR
