BEGIN:VCALENDAR
VERSION:2.0
PRODID:SchoolNow
CALSCALE:GREGORIAN
BEGIN:VEVENT
UID:31eebc46-efe6-11f0-81c0-0a58a9feac02
DTSTAMP:20260421T025603Z
SUMMARY:ACCESS Testing
URL;VALUE=URI:https://www.colquitt.k12.ga.us/schools/gray/calendar/8835116/
 access-testing
DTSTART;VALUE=DATE:20260223
DTEND;VALUE=DATE:20260227
END:VEVENT
END:VCALENDAR
