BEGIN:VCALENDAR
VERSION:2.0
PRODID:SchoolNow
CALSCALE:GREGORIAN
BEGIN:VEVENT
UID:31eeb8e0-efe6-11f0-980c-0a58a9feac02
DTSTAMP:20260421T025603Z
SUMMARY:Holiday
URL;VALUE=URI:https://www.colquitt.k12.ga.us/schools/gray/calendar/8835115/
 holiday
DTSTART;VALUE=DATE:20260216
DTEND;VALUE=DATE:20260217
END:VEVENT
END:VCALENDAR
