BEGIN:VCALENDAR
VERSION:2.0
PRODID:SchoolNow
CALSCALE:GREGORIAN
BEGIN:VEVENT
UID:b4dd0d8c-c0e4-11f0-b60d-0e331b9224b1
DTSTAMP:20260421T025603Z
SUMMARY:100th Day of School
URL;VALUE=URI:https://www.colquitt.k12.ga.us/schools/gray/calendar/8794586/
 100th-day-of-school
DTSTART;VALUE=DATE:20260106
DTEND;VALUE=DATE:20260107
END:VEVENT
END:VCALENDAR
