BEGIN:VCALENDAR
VERSION:2.0
PRODID:SchoolNow
CALSCALE:GREGORIAN
BEGIN:VEVENT
UID:b4dd085a-c0e4-11f0-821a-0e331b9224b1
DTSTAMP:20260421T025603Z
SUMMARY:Rising 9s Parent Night @ CCHS
URL;VALUE=URI:https://www.colquitt.k12.ga.us/schools/gray/calendar/8794582/
 rising-9s-parent-night-cchs
DTSTART;VALUE=DATE:20260127
DTEND;VALUE=DATE:20260128
END:VEVENT
END:VCALENDAR
