BEGIN:VCALENDAR
VERSION:2.0
PRODID:SchoolNow
CALSCALE:GREGORIAN
BEGIN:VEVENT
UID:b4dd06f2-c0e4-11f0-bad9-0e331b9224b1
DTSTAMP:20260421T025603Z
SUMMARY:One Night\, One World & GMAS Talk
URL;VALUE=URI:https://www.colquitt.k12.ga.us/schools/gray/calendar/8794581/
 one-night-one-world-gmas-talk
DTSTART:20260113T230000Z
DTEND:20260114T003000Z
END:VEVENT
END:VCALENDAR
