BEGIN:VCALENDAR
VERSION:2.0
PRODID:SchoolNow
CALSCALE:GREGORIAN
BEGIN:VEVENT
UID:6c0b4d3c-8f46-11f0-b95e-0a58a9feac02
DTSTAMP:20260421T025603Z
SUMMARY:PBIS Field Day
URL;VALUE=URI:https://www.colquitt.k12.ga.us/schools/gray/calendar/8610271/
 pbis-field-day
DTSTART;VALUE=DATE:20260519
DTEND;VALUE=DATE:20260520
END:VEVENT
END:VCALENDAR
