BEGIN:VCALENDAR
VERSION:2.0
PRODID:SchoolNow
CALSCALE:GREGORIAN
BEGIN:VEVENT
UID:6c0b4c6a-8f46-11f0-ba3b-0a58a9feac02
DTSTAMP:20260421T025603Z
SUMMARY:Honors Day
URL;VALUE=URI:https://www.colquitt.k12.ga.us/schools/gray/calendar/8610270/
 honors-day
DTSTART;VALUE=DATE:20260515
DTEND;VALUE=DATE:20260516
END:VEVENT
END:VCALENDAR
