BEGIN:VCALENDAR
VERSION:2.0
PRODID:SchoolNow
CALSCALE:GREGORIAN
BEGIN:VEVENT
UID:6c0b4aa8-8f46-11f0-92e8-0a58a9feac02
DTSTAMP:20260421T025603Z
SUMMARY:March Madness
URL;VALUE=URI:https://www.colquitt.k12.ga.us/schools/gray/calendar/8610268/
 march-madness
DTSTART;VALUE=DATE:20260323
DTEND;VALUE=DATE:20260328
END:VEVENT
END:VCALENDAR
