BEGIN:VCALENDAR
VERSION:2.0
PRODID:SchoolNow
CALSCALE:GREGORIAN
BEGIN:VEVENT
UID:6c0b49cc-8f46-11f0-bd2b-0a58a9feac02
DTSTAMP:20260421T025603Z
SUMMARY:Science Benchmark #3
URL;VALUE=URI:https://www.colquitt.k12.ga.us/schools/gray/calendar/8610267/
 science-benchmark-3
DTSTART;VALUE=DATE:20260323
DTEND;VALUE=DATE:20260325
END:VEVENT
END:VCALENDAR
