BEGIN:VCALENDAR
VERSION:2.0
PRODID:SchoolNow
CALSCALE:GREGORIAN
BEGIN:VEVENT
UID:6c0b48fa-8f46-11f0-9760-0a58a9feac02
DTSTAMP:20260421T025603Z
SUMMARY:ELA Map Benchmark #3
URL;VALUE=URI:https://www.colquitt.k12.ga.us/schools/gray/calendar/8610266/
 ela-map-benchmark-3
DTSTART;VALUE=DATE:20260319
DTEND;VALUE=DATE:20260320
END:VEVENT
END:VCALENDAR
