BEGIN:VCALENDAR
VERSION:2.0
PRODID:SchoolNow
CALSCALE:GREGORIAN
BEGIN:VEVENT
UID:6c0b4814-8f46-11f0-822c-0a58a9feac02
DTSTAMP:20260421T025603Z
SUMMARY:Math MAP Benchmark #3
URL;VALUE=URI:https://www.colquitt.k12.ga.us/schools/gray/calendar/8610265/
 math-map-benchmark-3
DTSTART;VALUE=DATE:20260317
DTEND;VALUE=DATE:20260318
END:VEVENT
END:VCALENDAR
