BEGIN:VCALENDAR
VERSION:2.0
PRODID:SchoolNow
CALSCALE:GREGORIAN
BEGIN:VEVENT
UID:6c0b4742-8f46-11f0-a6d2-0a58a9feac02
DTSTAMP:20260421T025603Z
SUMMARY:PBIS Movie Day
URL;VALUE=URI:https://www.colquitt.k12.ga.us/schools/gray/calendar/8610264/
 pbis-movie-day
DTSTART;VALUE=DATE:20260304
DTEND;VALUE=DATE:20260305
END:VEVENT
END:VCALENDAR
