BEGIN:VCALENDAR
VERSION:2.0
PRODID:SchoolNow
CALSCALE:GREGORIAN
BEGIN:VEVENT
UID:15cb33a0-1822-11f1-bf5e-0affd0ceaea7
DTSTAMP:20260419T142539Z
SUMMARY:HS Volleyball Tryouts
URL;VALUE=URI:https://www.colquitt.k12.ga.us/schools/colquitt-high/athletic
 s/calendar/8891106/hs-volleyball-tryouts
DTSTART:20260511T200000Z
DTEND:20260511T223000Z
END:VEVENT
END:VCALENDAR
