BEGIN:VCALENDAR
VERSION:2.0
PRODID:SchoolNow
CALSCALE:GREGORIAN
BEGIN:VEVENT
UID:15cb2536-1822-11f1-8b2c-0affd0ceaea7
DTSTAMP:20260419T142539Z
SUMMARY:Sideline Cheer Tryouts
LOCATION:CCHS Gymnasium
URL;VALUE=URI:https://www.colquitt.k12.ga.us/schools/colquitt-high/athletic
 s/calendar/8891101/sideline-cheer-tryouts
DTSTART:20260422T200000Z
DTEND:20260422T220000Z
END:VEVENT
END:VCALENDAR
