BEGIN:VCALENDAR
VERSION:2.0
PRODID:SchoolNow
CALSCALE:GREGORIAN
BEGIN:VEVENT
UID:67573954-af5d-11f0-a2ac-0a58a9feac02
DTSTAMP:20260419T142539Z
SUMMARY:Basketball vs. Thomasville-JV Boys- Var -G/B
URL;VALUE=URI:https://www.colquitt.k12.ga.us/schools/colquitt-high/athletic
 s/calendar/8742554/basketball-vs-thomasville-jv-boys-var-g-b
DTSTART:20260214T213000Z
DTEND:20260215T003000Z
END:VEVENT
END:VCALENDAR
