BEGIN:VCALENDAR
VERSION:2.0
PRODID:SchoolNow
CALSCALE:GREGORIAN
BEGIN:VEVENT
UID:67573878-af5d-11f0-a193-0a58a9feac02
DTSTAMP:20260419T142539Z
SUMMARY:Basketball vs. Westover - Var G/B
URL;VALUE=URI:https://www.colquitt.k12.ga.us/schools/colquitt-high/athletic
 s/calendar/8742553/basketball-vs-westover-var-g-b
DTSTART:20260206T230000Z
DTEND:20260207T000000Z
END:VEVENT
END:VCALENDAR
