BEGIN:VCALENDAR
VERSION:2.0
PRODID:SchoolNow
CALSCALE:GREGORIAN
BEGIN:VEVENT
UID:67573792-af5d-11f0-bd9a-0a58a9feac02
DTSTAMP:20260419T142539Z
SUMMARY:Basketball vs. Tift Co. - JV Girls - Var. G/B
URL;VALUE=URI:https://www.colquitt.k12.ga.us/schools/colquitt-high/athletic
 s/calendar/8742552/basketball-vs-tift-co-jv-girls-var-g-b
DTSTART:20260203T213000Z
DTEND:20260203T223000Z
END:VEVENT
END:VCALENDAR
