BEGIN:VCALENDAR
VERSION:2.0
PRODID:SchoolNow
CALSCALE:GREGORIAN
BEGIN:VEVENT
UID:675736ac-af5d-11f0-8af8-0a58a9feac02
DTSTAMP:20260419T142539Z
SUMMARY:Basketball vs Richmond Hill - Var G/B
URL;VALUE=URI:https://www.colquitt.k12.ga.us/schools/colquitt-high/athletic
 s/calendar/8742551/basketball-vs-richmond-hill-var-g-b
DTSTART:20260130T220000Z
DTEND:20260131T020000Z
END:VEVENT
END:VCALENDAR
