BEGIN:VCALENDAR
VERSION:2.0
PRODID:SchoolNow
CALSCALE:GREGORIAN
BEGIN:VEVENT
UID:675735c6-af5d-11f0-88de-0a58a9feac02
DTSTAMP:20260419T142539Z
SUMMARY:Basketball vs Camden JV Girls/Boys - Var G/B
URL;VALUE=URI:https://www.colquitt.k12.ga.us/schools/colquitt-high/athletic
 s/calendar/8742550/basketball-vs-camden-jv-girls-boys-var-g-b
DTSTART:20260124T190000Z
DTEND:20260125T013000Z
END:VEVENT
END:VCALENDAR
