BEGIN:VCALENDAR
VERSION:2.0
PRODID:SchoolNow
CALSCALE:GREGORIAN
BEGIN:VEVENT
UID:675734e0-af5d-11f0-a974-0a58a9feac02
DTSTAMP:20260419T142539Z
SUMMARY:Basketball vs Lowndes JV Girls V G/B CCHS Gym WDD- Cooper
URL;VALUE=URI:https://www.colquitt.k12.ga.us/schools/colquitt-high/athletic
 s/calendar/8742549/basketball-vs-lowndes-jv-girls-v-g-b-cchs-gym-wdd-coope
 r
DTSTART:20260106T213000Z
DTEND:20260107T010000Z
END:VEVENT
END:VCALENDAR
