BEGIN:VCALENDAR
VERSION:2.0
PRODID:SchoolNow
CALSCALE:GREGORIAN
BEGIN:VEVENT
UID:675733fa-af5d-11f0-a0c0-0a58a9feac02
DTSTAMP:20260419T142539Z
SUMMARY:Packer Classic Duals CCHS Gym
URL;VALUE=URI:https://www.colquitt.k12.ga.us/schools/colquitt-high/athletic
 s/calendar/8742548/packer-classic-duals-cchs-gym
DTSTART:20260103T140000Z
DTEND:20260103T190000Z
END:VEVENT
END:VCALENDAR
