BEGIN:VCALENDAR
VERSION:2.0
PRODID:SchoolNow
CALSCALE:GREGORIAN
BEGIN:VEVENT
UID:67573314-af5d-11f0-b140-0a58a9feac02
DTSTAMP:20260419T142539Z
SUMMARY:Packer Wrestling Classic JV/Girls CCHS Gym
URL;VALUE=URI:https://www.colquitt.k12.ga.us/schools/colquitt-high/athletic
 s/calendar/8742547/packer-wrestling-classic-jv-girls-cchs-gym
DTSTART:20260102T150000Z
DTEND:20260102T193000Z
END:VEVENT
END:VCALENDAR
