BEGIN:VCALENDAR
VERSION:2.0
PRODID:SchoolNow
CALSCALE:GREGORIAN
BEGIN:VEVENT
UID:50627272-61c9-11f0-87f3-0e7f0008522d
DTSTAMP:20260419T142539Z
SUMMARY:Boys Soccer team pics
LOCATION:CCHS Indoor Facility
URL;VALUE=URI:https://www.colquitt.k12.ga.us/schools/colquitt-high/athletic
 s/calendar/8417913/boys-soccer-team-pics
DTSTART:20260124T130000Z
DTEND:20260124T180000Z
END:VEVENT
END:VCALENDAR
