BEGIN:VCALENDAR
VERSION:2.0
PRODID:SchoolNow
CALSCALE:GREGORIAN
BEGIN:VEVENT
UID:faefce5c-a11f-11f0-80e8-02b5ca4f78fb
DTSTAMP:20260420T100008Z
SUMMARY:Memorial Day (All Schools & Offices Closed)
URL;VALUE=URI:https://www.colquitt.k12.ga.us/calendar/8693908/memorial-day-
 all-schools-offices-closed
DTSTART;VALUE=DATE:20270531
DTEND;VALUE=DATE:20270601
END:VEVENT
END:VCALENDAR
