BEGIN:VCALENDAR
VERSION:2.0
PRODID:SchoolNow
CALSCALE:GREGORIAN
BEGIN:VEVENT
UID:faefcd3a-a11f-11f0-9e45-02b5ca4f78fb
DTSTAMP:20260420T100008Z
SUMMARY:Class of 2027 Graduation Ceremony
LOCATION:Mack Tharpe Stadium\, 1000 Stadium Dr SW\, Moultrie\, GA 31768\, U
 SA
URL;VALUE=URI:https://www.colquitt.k12.ga.us/calendar/8693907/class-of-2027
 -graduation-ceremony
DTSTART:20270522T120000Z
DTEND:20270522T140000Z
END:VEVENT
END:VCALENDAR
