BEGIN:VCALENDAR
VERSION:2.0
PRODID:SchoolNow
CALSCALE:GREGORIAN
BEGIN:VEVENT
UID:faefcb46-a11f-11f0-81fb-02b5ca4f78fb
DTSTAMP:20260420T100008Z
SUMMARY:Student Early Release on Last Day of School
URL;VALUE=URI:https://www.colquitt.k12.ga.us/calendar/8693906/student-early
 -release-on-last-day-of-school
DTSTART:20270521T153000Z
DTEND:20270521T193000Z
END:VEVENT
END:VCALENDAR
