BEGIN:VCALENDAR
VERSION:2.0
PRODID:SchoolNow
CALSCALE:GREGORIAN
BEGIN:VEVENT
UID:faefaabc-a11f-11f0-a67d-02b5ca4f78fb
DTSTAMP:20260420T100008Z
SUMMARY:Post-Planning
URL;VALUE=URI:https://www.colquitt.k12.ga.us/calendar/8693905/post-planning
DTSTART;VALUE=DATE:20270524
DTEND;VALUE=DATE:20270526
END:VEVENT
END:VCALENDAR
