BEGIN:VCALENDAR
VERSION:2.0
PRODID:SchoolNow
CALSCALE:GREGORIAN
BEGIN:VEVENT
UID:b6423244-932e-11f0-aef1-0a58a9feac02
DTSTAMP:20260420T035514Z
SUMMARY:Spring Break (All Schools & Offices Closed)
URL;VALUE=URI:https://www.colquitt.k12.ga.us/calendar/8629450/spring-break-
 all-schools-offices-closed
DTSTART;VALUE=DATE:20270329
DTEND;VALUE=DATE:20270403
END:VEVENT
END:VCALENDAR
