BEGIN:VCALENDAR
VERSION:2.0
PRODID:SchoolNow
CALSCALE:GREGORIAN
BEGIN:VEVENT
UID:b642315e-932e-11f0-b2ba-0a58a9feac02
DTSTAMP:20260420T035514Z
SUMMARY:Student Holiday/Teacher Workday
URL;VALUE=URI:https://www.colquitt.k12.ga.us/calendar/8629449/student-holid
 ay-teacher-workday
DTSTART;VALUE=DATE:20270312
DTEND;VALUE=DATE:20270313
END:VEVENT
END:VCALENDAR
