BEGIN:VCALENDAR
VERSION:2.0
PRODID:SchoolNow
CALSCALE:GREGORIAN
BEGIN:VEVENT
UID:b6423078-932e-11f0-89cc-0a58a9feac02
DTSTAMP:20260420T035514Z
SUMMARY:Presidents' Day (All Schools & Offices Closed)
URL;VALUE=URI:https://www.colquitt.k12.ga.us/calendar/8629448/presidents-da
 y-all-schools-offices-closed
DTSTART;VALUE=DATE:20270215
DTEND;VALUE=DATE:20270216
END:VEVENT
END:VCALENDAR
